BEGIN:VCALENDAR
VERSION:2.0
PRODID:-//Clover Leaf Archery Club - ECPv6.15.20//NONSGML v1.0//EN
CALSCALE:GREGORIAN
METHOD:PUBLISH
X-ORIGINAL-URL:https://cloverleafarcheryclub.com
X-WR-CALDESC:Events for Clover Leaf Archery Club
REFRESH-INTERVAL;VALUE=DURATION:PT1H
X-Robots-Tag:noindex
X-PUBLISHED-TTL:PT1H
BEGIN:VTIMEZONE
TZID:America/New_York
BEGIN:DAYLIGHT
TZOFFSETFROM:-0500
TZOFFSETTO:-0400
TZNAME:EDT
DTSTART:20220313T070000
END:DAYLIGHT
BEGIN:STANDARD
TZOFFSETFROM:-0400
TZOFFSETTO:-0500
TZNAME:EST
DTSTART:20221106T060000
END:STANDARD
BEGIN:DAYLIGHT
TZOFFSETFROM:-0500
TZOFFSETTO:-0400
TZNAME:EDT
DTSTART:20230312T070000
END:DAYLIGHT
BEGIN:STANDARD
TZOFFSETFROM:-0400
TZOFFSETTO:-0500
TZNAME:EST
DTSTART:20231105T060000
END:STANDARD
BEGIN:DAYLIGHT
TZOFFSETFROM:-0500
TZOFFSETTO:-0400
TZNAME:EDT
DTSTART:20240310T070000
END:DAYLIGHT
BEGIN:STANDARD
TZOFFSETFROM:-0400
TZOFFSETTO:-0500
TZNAME:EST
DTSTART:20241103T060000
END:STANDARD
END:VTIMEZONE
BEGIN:VEVENT
DTSTART;TZID=America/New_York:20230604T173000
DTEND;TZID=America/New_York:20230604T190000
DTSTAMP:20260419T114252
CREATED:20230321T232748Z
LAST-MODIFIED:20230321T232749Z
UID:2039-1685899800-1685905200@cloverleafarcheryclub.com
SUMMARY:JOAD
DESCRIPTION:JOAD is the USA Archery Junior Olympic Archery Development Program for Archers  8 – 20 years of Age.  We meet each week to work on improving our form as well as our scores in target archery.  We also have some competition and fun.  If you didn’t sign up before the classes started please reach out to David Schmidt to see if there is room to join the class.  The cost for the 10 week fall session is $100. \n\n\n\nPlease contact David Schmidt if you would like to reserve a spot to participate or would like to gather more information.  267-621-7157 or david.w.schmidt55@gmail.com
URL:https://cloverleafarcheryclub.com/event/joad-27/
LOCATION:Club House\, 2080 Umbreit Road\, Milford Square\, PA\, 18935\, United States
ORGANIZER;CN="David Schmidt":MAILTO:david.w.schmidt55@gmail.com
END:VEVENT
BEGIN:VEVENT
DTSTART;TZID=America/New_York:20230611T070000
DTEND;TZID=America/New_York:20230611T110000
DTSTAMP:20260419T114252
CREATED:20221120T211254Z
LAST-MODIFIED:20221120T211254Z
UID:1854-1686466800-1686481200@cloverleafarcheryclub.com
SUMMARY:2nd Sunday Shoot
DESCRIPTION:$10.00/non-member $5.00/member
URL:https://cloverleafarcheryclub.com/event/2nd-sunday-shoot-32/
LOCATION:Club House\, 2080 Umbreit Road\, Milford Square\, PA\, 18935\, United States
END:VEVENT
BEGIN:VEVENT
DTSTART;TZID=America/New_York:20230611T173000
DTEND;TZID=America/New_York:20230611T190000
DTSTAMP:20260419T114252
CREATED:20230321T232823Z
LAST-MODIFIED:20230321T232824Z
UID:2041-1686504600-1686510000@cloverleafarcheryclub.com
SUMMARY:JOAD
DESCRIPTION:JOAD is the USA Archery Junior Olympic Archery Development Program for Archers  8 – 20 years of Age.  We meet each week to work on improving our form as well as our scores in target archery.  We also have some competition and fun.  If you didn’t sign up before the classes started please reach out to David Schmidt to see if there is room to join the class.  The cost for the 10 week fall session is $100. \n\n\n\nPlease contact David Schmidt if you would like to reserve a spot to participate or would like to gather more information.  267-621-7157 or david.w.schmidt55@gmail.com
URL:https://cloverleafarcheryclub.com/event/joad-28/
LOCATION:Club House\, 2080 Umbreit Road\, Milford Square\, PA\, 18935\, United States
ORGANIZER;CN="David Schmidt":MAILTO:david.w.schmidt55@gmail.com
END:VEVENT
BEGIN:VEVENT
DTSTART;TZID=America/New_York:20230613T173000
DTEND;TZID=America/New_York:20230613T190000
DTSTAMP:20260419T114252
CREATED:20230521T195047Z
LAST-MODIFIED:20230521T195047Z
UID:2065-1686677400-1686682800@cloverleafarcheryclub.com
SUMMARY:Club Work Nights
DESCRIPTION:Come out to the club and help out with clean up\, repairs\, and other work.
URL:https://cloverleafarcheryclub.com/event/club-work-nights-3/
LOCATION:Club House\, 2080 Umbreit Road\, Milford Square\, PA\, 18935\, United States
END:VEVENT
BEGIN:VEVENT
DTSTART;TZID=America/New_York:20230618T173000
DTEND;TZID=America/New_York:20230618T190000
DTSTAMP:20260419T114252
CREATED:20230321T232901Z
LAST-MODIFIED:20230321T232902Z
UID:2043-1687109400-1687114800@cloverleafarcheryclub.com
SUMMARY:JOAD
DESCRIPTION:JOAD is the USA Archery Junior Olympic Archery Development Program for Archers  8 – 20 years of Age.  We meet each week to work on improving our form as well as our scores in target archery.  We also have some competition and fun.  If you didn’t sign up before the classes started please reach out to David Schmidt to see if there is room to join the class.  The cost for the 10 week fall session is $100. \n\n\n\nPlease contact David Schmidt if you would like to reserve a spot to participate or would like to gather more information.  267-621-7157 or david.w.schmidt55@gmail.com
URL:https://cloverleafarcheryclub.com/event/joad-29/
LOCATION:Club House\, 2080 Umbreit Road\, Milford Square\, PA\, 18935\, United States
ORGANIZER;CN="David Schmidt":MAILTO:david.w.schmidt55@gmail.com
END:VEVENT
BEGIN:VEVENT
DTSTART;TZID=America/New_York:20230620T173000
DTEND;TZID=America/New_York:20230620T190000
DTSTAMP:20260419T114252
CREATED:20230521T195220Z
LAST-MODIFIED:20230521T195221Z
UID:2067-1687282200-1687287600@cloverleafarcheryclub.com
SUMMARY:Club Work Nights
DESCRIPTION:Come out to the club and help out with clean up\, repairs\, and other work.
URL:https://cloverleafarcheryclub.com/event/club-work-nights-4/
LOCATION:Club House\, 2080 Umbreit Road\, Milford Square\, PA\, 18935\, United States
END:VEVENT
BEGIN:VEVENT
DTSTART;TZID=America/New_York:20230620T173000
DTEND;TZID=America/New_York:20230620T190000
DTSTAMP:20260419T114252
CREATED:20230521T195339Z
LAST-MODIFIED:20230521T195340Z
UID:2069-1687282200-1687287600@cloverleafarcheryclub.com
SUMMARY:Club Work Nights
DESCRIPTION:Come out to the club and help out with clean up\, repairs\, and other work.
URL:https://cloverleafarcheryclub.com/event/club-work-nights-5/
LOCATION:Club House\, 2080 Umbreit Road\, Milford Square\, PA\, 18935\, United States
END:VEVENT
BEGIN:VEVENT
DTSTART;TZID=America/New_York:20230620T190000
DTEND;TZID=America/New_York:20230620T210000
DTSTAMP:20260419T114252
CREATED:20221120T211654Z
LAST-MODIFIED:20230619T185524Z
UID:1871-1687287600-1687294800@cloverleafarcheryclub.com
SUMMARY:Club Meeting/Bi-law review
DESCRIPTION:The club bi-laws will be read during this meeting for all club members to review. \nGo over past months events\, planning for upcoming events\, vote in new members\, go over club finances\, and more. 
URL:https://cloverleafarcheryclub.com/event/club-meeting-29/
LOCATION:Club House\, 2080 Umbreit Road\, Milford Square\, PA\, 18935\, United States
END:VEVENT
BEGIN:VEVENT
DTSTART;TZID=America/New_York:20230627T173000
DTEND;TZID=America/New_York:20230627T190000
DTSTAMP:20260419T114252
CREATED:20230521T195434Z
LAST-MODIFIED:20230521T195435Z
UID:2071-1687887000-1687892400@cloverleafarcheryclub.com
SUMMARY:Club Work Nights
DESCRIPTION:Come out to the club and help out with clean up\, repairs\, and other work.
URL:https://cloverleafarcheryclub.com/event/club-work-nights-6/
LOCATION:Club House\, 2080 Umbreit Road\, Milford Square\, PA\, 18935\, United States
END:VEVENT
END:VCALENDAR