BEGIN:VCALENDAR
VERSION:2.0
PRODID:-//Clover Leaf Archery Club - ECPv6.15.20//NONSGML v1.0//EN
CALSCALE:GREGORIAN
METHOD:PUBLISH
X-ORIGINAL-URL:https://cloverleafarcheryclub.com
X-WR-CALDESC:Events for Clover Leaf Archery Club
REFRESH-INTERVAL;VALUE=DURATION:PT1H
X-Robots-Tag:noindex
X-PUBLISHED-TTL:PT1H
BEGIN:VTIMEZONE
TZID:America/New_York
BEGIN:DAYLIGHT
TZOFFSETFROM:-0500
TZOFFSETTO:-0400
TZNAME:EDT
DTSTART:20210314T070000
END:DAYLIGHT
BEGIN:STANDARD
TZOFFSETFROM:-0400
TZOFFSETTO:-0500
TZNAME:EST
DTSTART:20211107T060000
END:STANDARD
BEGIN:DAYLIGHT
TZOFFSETFROM:-0500
TZOFFSETTO:-0400
TZNAME:EDT
DTSTART:20220313T070000
END:DAYLIGHT
BEGIN:STANDARD
TZOFFSETFROM:-0400
TZOFFSETTO:-0500
TZNAME:EST
DTSTART:20221106T060000
END:STANDARD
BEGIN:DAYLIGHT
TZOFFSETFROM:-0500
TZOFFSETTO:-0400
TZNAME:EDT
DTSTART:20230312T070000
END:DAYLIGHT
BEGIN:STANDARD
TZOFFSETFROM:-0400
TZOFFSETTO:-0500
TZNAME:EST
DTSTART:20231105T060000
END:STANDARD
END:VTIMEZONE
BEGIN:VEVENT
DTSTART;TZID=America/New_York:20220803T180000
DTEND;TZID=America/New_York:20220803T180000
DTSTAMP:20260422T214812
CREATED:20220718T233923Z
LAST-MODIFIED:20220718T233923Z
UID:1641-1659549600-1659549600@cloverleafarcheryclub.com
SUMMARY:Clover Leaf Archery Club – Summer 2022 3D Shoot
DESCRIPTION:No fee for JOAD participants. \nPlease contact David Schmidt if you would like to reserve a spot to participate or would like to gather more information.  267-621-7157 or david.w.schmidt55@gmail.com
URL:https://cloverleafarcheryclub.com/event/clover-leaf-archery-club-summer-2022-3d-shoot/
LOCATION:Club House\, 2080 Umbreit Road\, Milford Square\, PA\, 18935\, United States
END:VEVENT
BEGIN:VEVENT
DTSTART;TZID=America/New_York:20220810T180000
DTEND;TZID=America/New_York:20220810T180000
DTSTAMP:20260422T214812
CREATED:20220718T234021Z
LAST-MODIFIED:20220718T234021Z
UID:1643-1660154400-1660154400@cloverleafarcheryclub.com
SUMMARY:Clover Leaf Archery Club – Summer 2022 3D Shoot
DESCRIPTION:No fee for JOAD participants. \nPlease contact David Schmidt if you would like to reserve a spot to participate or would like to gather more information.  267-621-7157 or david.w.schmidt55@gmail.com
URL:https://cloverleafarcheryclub.com/event/clover-leaf-archery-club-summer-2022-3d-shoot-2/
LOCATION:Club House\, 2080 Umbreit Road\, Milford Square\, PA\, 18935\, United States
END:VEVENT
BEGIN:VEVENT
DTSTART;TZID=America/New_York:20220814T070000
DTEND;TZID=America/New_York:20220814T110000
DTSTAMP:20260422T214812
CREATED:20220115T223047Z
LAST-MODIFIED:20220115T223047Z
UID:1523-1660460400-1660474800@cloverleafarcheryclub.com
SUMMARY:2nd Sunday Shoot
DESCRIPTION:$10.00/non-member $5.00/member
URL:https://cloverleafarcheryclub.com/event/2nd-sunday-shoot-24/
LOCATION:Club House\, 2080 Umbreit Road\, Milford Square\, PA\, 18935\, United States
END:VEVENT
BEGIN:VEVENT
DTSTART;TZID=America/New_York:20220816T190000
DTEND;TZID=America/New_York:20220816T190000
DTSTAMP:20260422T214812
CREATED:20220115T221949Z
LAST-MODIFIED:20220115T221949Z
UID:1501-1660676400-1660676400@cloverleafarcheryclub.com
SUMMARY:Club Meeting
DESCRIPTION:
URL:https://cloverleafarcheryclub.com/event/club-meeting-19/
LOCATION:Club House\, 2080 Umbreit Road\, Milford Square\, PA\, 18935\, United States
CATEGORIES:Member's Meeting
END:VEVENT
BEGIN:VEVENT
DTSTART;TZID=America/New_York:20220817T180000
DTEND;TZID=America/New_York:20220817T180000
DTSTAMP:20260422T214812
CREATED:20220718T234050Z
LAST-MODIFIED:20220718T234050Z
UID:1645-1660759200-1660759200@cloverleafarcheryclub.com
SUMMARY:Clover Leaf Archery Club – Summer 2022 3D Shoot
DESCRIPTION:No fee for JOAD participants. \nPlease contact David Schmidt if you would like to reserve a spot to participate or would like to gather more information.  267-621-7157 or david.w.schmidt55@gmail.com
URL:https://cloverleafarcheryclub.com/event/clover-leaf-archery-club-summer-2022-3d-shoot-3/
LOCATION:Club House\, 2080 Umbreit Road\, Milford Square\, PA\, 18935\, United States
END:VEVENT
BEGIN:VEVENT
DTSTART;TZID=America/New_York:20220824T180000
DTEND;TZID=America/New_York:20220824T180000
DTSTAMP:20260422T214812
CREATED:20220718T234113Z
LAST-MODIFIED:20220718T234113Z
UID:1647-1661364000-1661364000@cloverleafarcheryclub.com
SUMMARY:Clover Leaf Archery Club – Summer 2022 3D Shoot
DESCRIPTION:No fee for JOAD participants. \nPlease contact David Schmidt if you would like to reserve a spot to participate or would like to gather more information.  267-621-7157 or david.w.schmidt55@gmail.com
URL:https://cloverleafarcheryclub.com/event/clover-leaf-archery-club-summer-2022-3d-shoot-4/
LOCATION:Club House\, 2080 Umbreit Road\, Milford Square\, PA\, 18935\, United States
END:VEVENT
BEGIN:VEVENT
DTSTART;TZID=America/New_York:20220831T180000
DTEND;TZID=America/New_York:20220831T180000
DTSTAMP:20260422T214812
CREATED:20220718T234140Z
LAST-MODIFIED:20220718T234140Z
UID:1649-1661968800-1661968800@cloverleafarcheryclub.com
SUMMARY:Clover Leaf Archery Club – Summer 2022 3D Shoot
DESCRIPTION:No fee for JOAD participants. \nPlease contact David Schmidt if you would like to reserve a spot to participate or would like to gather more information.  267-621-7157 or david.w.schmidt55@gmail.com
URL:https://cloverleafarcheryclub.com/event/clover-leaf-archery-club-summer-2022-3d-shoot-5/
LOCATION:Club House\, 2080 Umbreit Road\, Milford Square\, PA\, 18935\, United States
END:VEVENT
END:VCALENDAR