BEGIN:VCALENDAR
VERSION:2.0
PRODID:-//Clover Leaf Archery Club - ECPv6.15.20//NONSGML v1.0//EN
CALSCALE:GREGORIAN
METHOD:PUBLISH
X-ORIGINAL-URL:https://cloverleafarcheryclub.com
X-WR-CALDESC:Events for Clover Leaf Archery Club
REFRESH-INTERVAL;VALUE=DURATION:PT1H
X-Robots-Tag:noindex
X-PUBLISHED-TTL:PT1H
BEGIN:VTIMEZONE
TZID:America/New_York
BEGIN:DAYLIGHT
TZOFFSETFROM:-0500
TZOFFSETTO:-0400
TZNAME:EDT
DTSTART:20220313T070000
END:DAYLIGHT
BEGIN:STANDARD
TZOFFSETFROM:-0400
TZOFFSETTO:-0500
TZNAME:EST
DTSTART:20221106T060000
END:STANDARD
BEGIN:DAYLIGHT
TZOFFSETFROM:-0500
TZOFFSETTO:-0400
TZNAME:EDT
DTSTART:20230312T070000
END:DAYLIGHT
BEGIN:STANDARD
TZOFFSETFROM:-0400
TZOFFSETTO:-0500
TZNAME:EST
DTSTART:20231105T060000
END:STANDARD
BEGIN:DAYLIGHT
TZOFFSETFROM:-0500
TZOFFSETTO:-0400
TZNAME:EDT
DTSTART:20240310T070000
END:DAYLIGHT
BEGIN:STANDARD
TZOFFSETFROM:-0400
TZOFFSETTO:-0500
TZNAME:EST
DTSTART:20241103T060000
END:STANDARD
BEGIN:DAYLIGHT
TZOFFSETFROM:-0500
TZOFFSETTO:-0400
TZNAME:EDT
DTSTART:20250309T070000
END:DAYLIGHT
BEGIN:STANDARD
TZOFFSETFROM:-0400
TZOFFSETTO:-0500
TZNAME:EST
DTSTART:20251102T060000
END:STANDARD
END:VTIMEZONE
BEGIN:VEVENT
DTSTART;TZID=America/New_York:20230317T190000
DTEND;TZID=America/New_York:20230317T210000
DTSTAMP:20260419T195154
CREATED:20221120T210654Z
LAST-MODIFIED:20221120T210654Z
UID:1825-1679079600-1679086800@cloverleafarcheryclub.com
SUMMARY:Friday Night Youth Night
DESCRIPTION:More details available on the Friday Night Youth League page.  Tim & Kay Moats 610-308-8279
URL:https://cloverleafarcheryclub.com/event/friday-night-youth-night-15/
LOCATION:Club House\, 2080 Umbreit Road\, Milford Square\, PA\, 18935\, United States
CATEGORIES:Leagues
END:VEVENT
BEGIN:VEVENT
DTSTART;TZID=America/New_York:20230319T093000
DTEND;TZID=America/New_York:20230319T143000
DTSTAMP:20260419T195154
CREATED:20221221T015839Z
LAST-MODIFIED:20221221T015839Z
UID:1909-1679218200-1679236200@cloverleafarcheryclub.com
SUMMARY:Sunday Indoor Practice
DESCRIPTION:Free for members\, $5 per hour for non-members\, $10 for the whole day
URL:https://cloverleafarcheryclub.com/event/sunday-indoor-practice-38/
LOCATION:Club House\, 2080 Umbreit Road\, Milford Square\, PA\, 18935\, United States
CATEGORIES:Leagues
END:VEVENT
BEGIN:VEVENT
DTSTART;TZID=America/New_York:20230320T190000
DTEND;TZID=America/New_York:20230320T210000
DTSTAMP:20260419T195154
CREATED:20221120T210754Z
LAST-MODIFIED:20221120T210754Z
UID:1826-1679338800-1679346000@cloverleafarcheryclub.com
SUMMARY:Monday Night Dot League
DESCRIPTION:More details available on the Monday Night Dot League page.  Randy Freed 267-253-1453
URL:https://cloverleafarcheryclub.com/event/monday-night-dot-league-32/
LOCATION:Club House\, 2080 Umbreit Road\, Milford Square\, PA\, 18935\, United States
CATEGORIES:Leagues
END:VEVENT
BEGIN:VEVENT
DTSTART;TZID=America/New_York:20230321T190000
DTEND;TZID=America/New_York:20230321T210000
DTSTAMP:20260419T195154
CREATED:20221120T210754Z
LAST-MODIFIED:20221120T210754Z
UID:1827-1679425200-1679432400@cloverleafarcheryclub.com
SUMMARY:Tuesday Night Bow Hunter League
DESCRIPTION:More details available on the Tuesday Night Paper Animal League page.  Paul Romanic 610-554-6564
URL:https://cloverleafarcheryclub.com/event/tuesday-night-bow-hunter-league-32/
LOCATION:Club House\, 2080 Umbreit Road\, Milford Square\, PA\, 18935\, United States
CATEGORIES:Leagues
END:VEVENT
BEGIN:VEVENT
DTSTART;TZID=America/New_York:20230322T190000
DTEND;TZID=America/New_York:20230322T210000
DTSTAMP:20260419T195154
CREATED:20221120T210754Z
LAST-MODIFIED:20221120T210754Z
UID:1828-1679511600-1679518800@cloverleafarcheryclub.com
SUMMARY:Wednesday Night Recurve-Longbow Indoor 3D
DESCRIPTION:More details available on the Wednesday Night Traditional 3D Shoot League page.  Tim Burris 610-258-0606 or Ray Stoudt 267-393-1570
URL:https://cloverleafarcheryclub.com/event/wednesday-night-recurve-longbow-indoor-3d-32/
LOCATION:Club House\, 2080 Umbreit Road\, Milford Square\, PA\, 18935\, United States
CATEGORIES:Leagues
END:VEVENT
BEGIN:VEVENT
DTSTART;TZID=America/New_York:20230323T190000
DTEND;TZID=America/New_York:20230323T210000
DTSTAMP:20260419T195154
CREATED:20221120T210754Z
LAST-MODIFIED:20221120T210754Z
UID:1829-1679598000-1679605200@cloverleafarcheryclub.com
SUMMARY:Thursday Night Animal League
DESCRIPTION:More details available on the Thursday Night Paper Animal Shoot League page.  Thomas Walmsley 215-272-5234
URL:https://cloverleafarcheryclub.com/event/thursday-night-animal-league-32/
LOCATION:Club House\, 2080 Umbreit Road\, Milford Square\, PA\, 18935\, United States
CATEGORIES:Leagues
END:VEVENT
BEGIN:VEVENT
DTSTART;TZID=America/New_York:20230324T190000
DTEND;TZID=America/New_York:20230324T210000
DTSTAMP:20260419T195154
CREATED:20221120T210754Z
LAST-MODIFIED:20221120T210754Z
UID:1830-1679684400-1679691600@cloverleafarcheryclub.com
SUMMARY:Friday Night Women’s Night
DESCRIPTION:More details available on the Friday Night Ladies League page.  Tim & Kay Moats 610-308-8279
URL:https://cloverleafarcheryclub.com/event/friday-night-womens-night-10/
LOCATION:Club House\, 2080 Umbreit Road\, Milford Square\, PA\, 18935\, United States
CATEGORIES:Leagues
END:VEVENT
BEGIN:VEVENT
DTSTART;TZID=America/New_York:20230326T093000
DTEND;TZID=America/New_York:20230326T143000
DTSTAMP:20260419T195154
CREATED:20221221T015839Z
LAST-MODIFIED:20221221T015839Z
UID:1910-1679823000-1679841000@cloverleafarcheryclub.com
SUMMARY:Sunday Indoor Practice
DESCRIPTION:Free for members\, $5 per hour for non-members\, $10 for the whole day
URL:https://cloverleafarcheryclub.com/event/sunday-indoor-practice-39/
LOCATION:Club House\, 2080 Umbreit Road\, Milford Square\, PA\, 18935\, United States
CATEGORIES:Leagues
END:VEVENT
BEGIN:VEVENT
DTSTART;TZID=America/New_York:20230327T190000
DTEND;TZID=America/New_York:20230327T210000
DTSTAMP:20260419T195154
CREATED:20221120T210854Z
LAST-MODIFIED:20221120T210854Z
UID:1831-1679943600-1679950800@cloverleafarcheryclub.com
SUMMARY:Monday Night Dot League
DESCRIPTION:More details available on the Monday Night Dot League page.  Randy Freed 267-253-1453
URL:https://cloverleafarcheryclub.com/event/monday-night-dot-league-33/
LOCATION:Club House\, 2080 Umbreit Road\, Milford Square\, PA\, 18935\, United States
CATEGORIES:Leagues
END:VEVENT
BEGIN:VEVENT
DTSTART;TZID=America/New_York:20230328T190000
DTEND;TZID=America/New_York:20230328T210000
DTSTAMP:20260419T195154
CREATED:20221120T210854Z
LAST-MODIFIED:20221120T210854Z
UID:1832-1680030000-1680037200@cloverleafarcheryclub.com
SUMMARY:Tuesday Night Bow Hunter League
DESCRIPTION:More details available on the Tuesday Night Paper Animal League page.  Paul Romanic 610-554-6564
URL:https://cloverleafarcheryclub.com/event/tuesday-night-bow-hunter-league-33/
LOCATION:Club House\, 2080 Umbreit Road\, Milford Square\, PA\, 18935\, United States
CATEGORIES:Leagues
END:VEVENT
BEGIN:VEVENT
DTSTART;TZID=America/New_York:20230329T190000
DTEND;TZID=America/New_York:20230329T210000
DTSTAMP:20260419T195154
CREATED:20221120T210854Z
LAST-MODIFIED:20221120T210854Z
UID:1833-1680116400-1680123600@cloverleafarcheryclub.com
SUMMARY:Wednesday Night Recurve-Longbow Indoor 3D
DESCRIPTION:More details available on the Wednesday Night Traditional 3D Shoot League page.  Tim Burris 610-258-0606 or Ray Stoudt 267-393-1570
URL:https://cloverleafarcheryclub.com/event/wednesday-night-recurve-longbow-indoor-3d-33/
LOCATION:Club House\, 2080 Umbreit Road\, Milford Square\, PA\, 18935\, United States
CATEGORIES:Leagues
END:VEVENT
BEGIN:VEVENT
DTSTART;TZID=America/New_York:20230330T190000
DTEND;TZID=America/New_York:20230330T210000
DTSTAMP:20260419T195154
CREATED:20221120T210854Z
LAST-MODIFIED:20221120T210854Z
UID:1834-1680202800-1680210000@cloverleafarcheryclub.com
SUMMARY:Thursday Night Animal League
DESCRIPTION:More details available on the Thursday Night Paper Animal Shoot League page.  Thomas Walmsley 215-272-5234
URL:https://cloverleafarcheryclub.com/event/thursday-night-animal-league-33/
LOCATION:Club House\, 2080 Umbreit Road\, Milford Square\, PA\, 18935\, United States
CATEGORIES:Leagues
END:VEVENT
BEGIN:VEVENT
DTSTART;TZID=America/New_York:20230331T190000
DTEND;TZID=America/New_York:20230331T210000
DTSTAMP:20260419T195154
CREATED:20221120T210854Z
LAST-MODIFIED:20221120T210854Z
UID:1835-1680289200-1680296400@cloverleafarcheryclub.com
SUMMARY:Friday Night Youth Night
DESCRIPTION:More details available on the Friday Night Youth League page.  Tim & Kay Moats 610-308-8279
URL:https://cloverleafarcheryclub.com/event/friday-night-youth-night-16/
LOCATION:Club House\, 2080 Umbreit Road\, Milford Square\, PA\, 18935\, United States
CATEGORIES:Leagues
END:VEVENT
BEGIN:VEVENT
DTSTART;TZID=America/New_York:20230402T093000
DTEND;TZID=America/New_York:20230402T143000
DTSTAMP:20260419T195154
CREATED:20221221T015839Z
LAST-MODIFIED:20221221T015839Z
UID:1911-1680427800-1680445800@cloverleafarcheryclub.com
SUMMARY:Sunday Indoor Practice
DESCRIPTION:Free for members\, $5 per hour for non-members\, $10 for the whole day
URL:https://cloverleafarcheryclub.com/event/sunday-indoor-practice-40/
LOCATION:Club House\, 2080 Umbreit Road\, Milford Square\, PA\, 18935\, United States
CATEGORIES:Leagues
END:VEVENT
BEGIN:VEVENT
DTSTART;TZID=America/New_York:20231203T090000
DTEND;TZID=America/New_York:20231203T140000
DTSTAMP:20260419T195154
CREATED:20221120T211754Z
LAST-MODIFIED:20221120T211754Z
UID:1878-1701594000-1701612000@cloverleafarcheryclub.com
SUMMARY:Indoor League Practice Shoot
DESCRIPTION:Practice for indoor leagues.  Free to members\, $5 per hour for non-members or $10 for the whole day.
URL:https://cloverleafarcheryclub.com/event/indoor-league-practice-shoot-4/
LOCATION:Club House\, 2080 Umbreit Road\, Milford Square\, PA\, 18935\, United States
CATEGORIES:Leagues
END:VEVENT
BEGIN:VEVENT
DTSTART;TZID=America/New_York:20231210T090000
DTEND;TZID=America/New_York:20231210T140000
DTSTAMP:20260419T195154
CREATED:20221120T211754Z
LAST-MODIFIED:20221120T211754Z
UID:1879-1702198800-1702216800@cloverleafarcheryclub.com
SUMMARY:Indoor League Practice Shoot
DESCRIPTION:Practice for indoor leagues.  Free to members\, $5 per hour for non-members or $10 for the whole day.
URL:https://cloverleafarcheryclub.com/event/indoor-league-practice-shoot-5/
LOCATION:Club House\, 2080 Umbreit Road\, Milford Square\, PA\, 18935\, United States
CATEGORIES:Leagues
END:VEVENT
BEGIN:VEVENT
DTSTART;TZID=America/New_York:20231217T090000
DTEND;TZID=America/New_York:20231217T140000
DTSTAMP:20260419T195154
CREATED:20221120T211754Z
LAST-MODIFIED:20221120T211754Z
UID:1880-1702803600-1702821600@cloverleafarcheryclub.com
SUMMARY:Indoor League Practice Shoot
DESCRIPTION:Practice for indoor leagues.  Free to members\, $5 per hour for non-members or $10 for the whole day.
URL:https://cloverleafarcheryclub.com/event/indoor-league-practice-shoot-6/
LOCATION:Club House\, 2080 Umbreit Road\, Milford Square\, PA\, 18935\, United States
CATEGORIES:Leagues
END:VEVENT
BEGIN:VEVENT
DTSTART;TZID=America/New_York:20231224T090000
DTEND;TZID=America/New_York:20231224T140000
DTSTAMP:20260419T195154
CREATED:20221120T211854Z
LAST-MODIFIED:20221120T211854Z
UID:1881-1703408400-1703426400@cloverleafarcheryclub.com
SUMMARY:Indoor League Practice Shoot
DESCRIPTION:Practice for indoor leagues.  Free to members\, $5 per hour for non-members or $10 for the whole day.
URL:https://cloverleafarcheryclub.com/event/indoor-league-practice-shoot-7/
LOCATION:Club House\, 2080 Umbreit Road\, Milford Square\, PA\, 18935\, United States
CATEGORIES:Leagues
END:VEVENT
BEGIN:VEVENT
DTSTART;TZID=America/New_York:20231231T090000
DTEND;TZID=America/New_York:20231231T140000
DTSTAMP:20260419T195154
CREATED:20221120T211854Z
LAST-MODIFIED:20221120T211854Z
UID:1882-1704013200-1704031200@cloverleafarcheryclub.com
SUMMARY:Indoor League Practice Shoot
DESCRIPTION:Practice for indoor leagues.  Free to members\, $5 per hour for non-members or $10 for the whole day.
URL:https://cloverleafarcheryclub.com/event/indoor-league-practice-shoot-8/
LOCATION:Club House\, 2080 Umbreit Road\, Milford Square\, PA\, 18935\, United States
CATEGORIES:Leagues
END:VEVENT
BEGIN:VEVENT
DTSTART;TZID=America/New_York:20240102T190000
DTEND;TZID=America/New_York:20240102T210000
DTSTAMP:20260419T195154
CREATED:20231113T015455Z
LAST-MODIFIED:20231113T015455Z
UID:2148-1704222000-1704229200@cloverleafarcheryclub.com
SUMMARY:Tuesday Night Bow Hunter League
DESCRIPTION:More details available on the Tuesday Night Paper Animal League page.  Paul Romanic 610-554-6564
URL:https://cloverleafarcheryclub.com/event/tuesday-night-bow-hunter-league-34/
LOCATION:Club House\, 2080 Umbreit Road\, Milford Square\, PA\, 18935\, United States
CATEGORIES:Leagues
END:VEVENT
BEGIN:VEVENT
DTSTART;TZID=America/New_York:20240103T190000
DTEND;TZID=America/New_York:20240103T210000
DTSTAMP:20260419T195154
CREATED:20231113T015456Z
LAST-MODIFIED:20231113T015456Z
UID:2149-1704308400-1704315600@cloverleafarcheryclub.com
SUMMARY:Wednesday Night Recurve-Longbow Indoor 3D
DESCRIPTION:More details available on the Wednesday Night Traditional 3D Shoot League page.  Tim Burris 610-258-0606 or Ray Stoudt 267-393-1570
URL:https://cloverleafarcheryclub.com/event/wednesday-night-recurve-longbow-indoor-3d-34/
LOCATION:Club House\, 2080 Umbreit Road\, Milford Square\, PA\, 18935\, United States
CATEGORIES:Leagues
END:VEVENT
BEGIN:VEVENT
DTSTART;TZID=America/New_York:20240104T190000
DTEND;TZID=America/New_York:20240104T210000
DTSTAMP:20260419T195154
CREATED:20231113T015456Z
LAST-MODIFIED:20231113T015456Z
UID:2150-1704394800-1704402000@cloverleafarcheryclub.com
SUMMARY:Thursday Night Animal League
DESCRIPTION:More details available on the Thursday Night Paper Animal Shoot League page.  Thomas Walmsley 215-272-5234
URL:https://cloverleafarcheryclub.com/event/thursday-night-animal-league-34/
LOCATION:Club House\, 2080 Umbreit Road\, Milford Square\, PA\, 18935\, United States
CATEGORIES:Leagues
END:VEVENT
BEGIN:VEVENT
DTSTART;TZID=America/New_York:20240105T190000
DTEND;TZID=America/New_York:20240105T210000
DTSTAMP:20260419T195154
CREATED:20231113T015457Z
LAST-MODIFIED:20231113T015457Z
UID:2151-1704481200-1704488400@cloverleafarcheryclub.com
SUMMARY:Friday Night Youth Night
DESCRIPTION:More details available on the Friday Night Youth League page.  Tim Moats 610-308-8279
URL:https://cloverleafarcheryclub.com/event/friday-night-youth-night-17/
LOCATION:Club House\, 2080 Umbreit Road\, Milford Square\, PA\, 18935\, United States
CATEGORIES:Leagues
END:VEVENT
BEGIN:VEVENT
DTSTART;TZID=America/New_York:20240107T110000
DTEND;TZID=America/New_York:20240107T140000
DTSTAMP:20260419T195154
CREATED:20231113T020512Z
LAST-MODIFIED:20231113T020512Z
UID:2215-1704625200-1704636000@cloverleafarcheryclub.com
SUMMARY:Sunday Indoor Practice
DESCRIPTION:Free for members\, $5 per hour for non-members\, $10 for the whole day
URL:https://cloverleafarcheryclub.com/event/sunday-indoor-practice-41/
LOCATION:Club House\, 2080 Umbreit Road\, Milford Square\, PA\, 18935\, United States
CATEGORIES:Leagues
END:VEVENT
BEGIN:VEVENT
DTSTART;TZID=America/New_York:20240108T190000
DTEND;TZID=America/New_York:20240108T210000
DTSTAMP:20260419T195154
CREATED:20231113T015457Z
LAST-MODIFIED:20231113T015457Z
UID:2152-1704740400-1704747600@cloverleafarcheryclub.com
SUMMARY:Monday Night Dot League
DESCRIPTION:More details available on the Monday Night Dot League page.  Randy Freed 267-253-1453
URL:https://cloverleafarcheryclub.com/event/monday-night-dot-league-34/
LOCATION:Club House\, 2080 Umbreit Road\, Milford Square\, PA\, 18935\, United States
CATEGORIES:Leagues
END:VEVENT
BEGIN:VEVENT
DTSTART;TZID=America/New_York:20240109T190000
DTEND;TZID=America/New_York:20240109T210000
DTSTAMP:20260419T195154
CREATED:20231113T015500Z
LAST-MODIFIED:20231113T015500Z
UID:2153-1704826800-1704834000@cloverleafarcheryclub.com
SUMMARY:Tuesday Night Bow Hunter League
DESCRIPTION:More details available on the Tuesday Night Paper Animal League page.  Paul Romanic 610-554-6564
URL:https://cloverleafarcheryclub.com/event/tuesday-night-bow-hunter-league-35/
LOCATION:Club House\, 2080 Umbreit Road\, Milford Square\, PA\, 18935\, United States
CATEGORIES:Leagues
END:VEVENT
BEGIN:VEVENT
DTSTART;TZID=America/New_York:20240110T190000
DTEND;TZID=America/New_York:20240110T210000
DTSTAMP:20260419T195154
CREATED:20231113T015500Z
LAST-MODIFIED:20231113T015500Z
UID:2154-1704913200-1704920400@cloverleafarcheryclub.com
SUMMARY:Wednesday Night Recurve-Longbow Indoor 3D
DESCRIPTION:More details available on the Wednesday Night Traditional 3D Shoot League page.  Tim Burris 610-258-0606 or Ray Stoudt 267-393-1570
URL:https://cloverleafarcheryclub.com/event/wednesday-night-recurve-longbow-indoor-3d-35/
LOCATION:Club House\, 2080 Umbreit Road\, Milford Square\, PA\, 18935\, United States
CATEGORIES:Leagues
END:VEVENT
BEGIN:VEVENT
DTSTART;TZID=America/New_York:20240111T190000
DTEND;TZID=America/New_York:20240111T210000
DTSTAMP:20260419T195154
CREATED:20231113T015501Z
LAST-MODIFIED:20231113T015501Z
UID:2155-1704999600-1705006800@cloverleafarcheryclub.com
SUMMARY:Thursday Night Animal League
DESCRIPTION:More details available on the Thursday Night Paper Animal Shoot League page.  Thomas Walmsley 215-272-5234
URL:https://cloverleafarcheryclub.com/event/thursday-night-animal-league-35/
LOCATION:Club House\, 2080 Umbreit Road\, Milford Square\, PA\, 18935\, United States
CATEGORIES:Leagues
END:VEVENT
BEGIN:VEVENT
DTSTART;TZID=America/New_York:20240112T190000
DTEND;TZID=America/New_York:20240112T210000
DTSTAMP:20260419T195154
CREATED:20231113T015501Z
LAST-MODIFIED:20231113T015501Z
UID:2156-1705086000-1705093200@cloverleafarcheryclub.com
SUMMARY:Friday Night Women’s Night
DESCRIPTION:More details available on the Friday Night Ladies League page.  Tim & Kay Moats 610-308-8279
URL:https://cloverleafarcheryclub.com/event/friday-night-womens-night-11/
LOCATION:Club House\, 2080 Umbreit Road\, Milford Square\, PA\, 18935\, United States
CATEGORIES:Leagues
END:VEVENT
BEGIN:VEVENT
DTSTART;TZID=America/New_York:20240114T110000
DTEND;TZID=America/New_York:20240114T140000
DTSTAMP:20260419T195154
CREATED:20231113T020612Z
LAST-MODIFIED:20231113T020612Z
UID:2216-1705230000-1705240800@cloverleafarcheryclub.com
SUMMARY:Sunday Indoor Practice
DESCRIPTION:Free for members\, $5 per hour for non-members\, $10 for the whole day
URL:https://cloverleafarcheryclub.com/event/sunday-indoor-practice-42/
LOCATION:Club House\, 2080 Umbreit Road\, Milford Square\, PA\, 18935\, United States
CATEGORIES:Leagues
END:VEVENT
END:VCALENDAR