BEGIN:VCALENDAR
VERSION:2.0
PRODID:-//Clover Leaf Archery Club - ECPv6.15.20//NONSGML v1.0//EN
CALSCALE:GREGORIAN
METHOD:PUBLISH
X-WR-CALNAME:Clover Leaf Archery Club
X-ORIGINAL-URL:https://cloverleafarcheryclub.com
X-WR-CALDESC:Events for Clover Leaf Archery Club
REFRESH-INTERVAL;VALUE=DURATION:PT1H
X-Robots-Tag:noindex
X-PUBLISHED-TTL:PT1H
BEGIN:VTIMEZONE
TZID:America/New_York
BEGIN:DAYLIGHT
TZOFFSETFROM:-0500
TZOFFSETTO:-0400
TZNAME:EDT
DTSTART:20220313T070000
END:DAYLIGHT
BEGIN:STANDARD
TZOFFSETFROM:-0400
TZOFFSETTO:-0500
TZNAME:EST
DTSTART:20221106T060000
END:STANDARD
BEGIN:DAYLIGHT
TZOFFSETFROM:-0500
TZOFFSETTO:-0400
TZNAME:EDT
DTSTART:20230312T070000
END:DAYLIGHT
BEGIN:STANDARD
TZOFFSETFROM:-0400
TZOFFSETTO:-0500
TZNAME:EST
DTSTART:20231105T060000
END:STANDARD
BEGIN:DAYLIGHT
TZOFFSETFROM:-0500
TZOFFSETTO:-0400
TZNAME:EDT
DTSTART:20240310T070000
END:DAYLIGHT
BEGIN:STANDARD
TZOFFSETFROM:-0400
TZOFFSETTO:-0500
TZNAME:EST
DTSTART:20241103T060000
END:STANDARD
END:VTIMEZONE
BEGIN:VEVENT
DTSTART;TZID=America/New_York:20230112T190000
DTEND;TZID=America/New_York:20230112T210000
DTSTAMP:20260420T010729
CREATED:20221120T205752Z
LAST-MODIFIED:20221120T205752Z
UID:1779-1673550000-1673557200@cloverleafarcheryclub.com
SUMMARY:Thursday Night Animal League
DESCRIPTION:More details available on the Thursday Night Paper Animal Shoot League page.  Thomas Walmsley 215-272-5234
URL:https://cloverleafarcheryclub.com/event/thursday-night-animal-league-22/
LOCATION:Club House\, 2080 Umbreit Road\, Milford Square\, PA\, 18935\, United States
CATEGORIES:Leagues
END:VEVENT
BEGIN:VEVENT
DTSTART;TZID=America/New_York:20230113T190000
DTEND;TZID=America/New_York:20230113T210000
DTSTAMP:20260420T010729
CREATED:20221120T205753Z
LAST-MODIFIED:20221120T205753Z
UID:1780-1673636400-1673643600@cloverleafarcheryclub.com
SUMMARY:Friday Night Women’s Night
DESCRIPTION:More details available on the Friday Night Ladies League page.  Tim & Kay Moats 610-308-8279
URL:https://cloverleafarcheryclub.com/event/friday-night-womens-night-5/
LOCATION:Club House\, 2080 Umbreit Road\, Milford Square\, PA\, 18935\, United States
CATEGORIES:Leagues
END:VEVENT
BEGIN:VEVENT
DTSTART;TZID=America/New_York:20230115T093000
DTEND;TZID=America/New_York:20230115T143000
DTSTAMP:20260420T010729
CREATED:20221221T015825Z
LAST-MODIFIED:20221221T015825Z
UID:1900-1673775000-1673793000@cloverleafarcheryclub.com
SUMMARY:Sunday Indoor Practice
DESCRIPTION:Free for members\, $5 per hour for non-members\, $10 for the whole day
URL:https://cloverleafarcheryclub.com/event/sunday-indoor-practice-29/
LOCATION:Club House\, 2080 Umbreit Road\, Milford Square\, PA\, 18935\, United States
CATEGORIES:Leagues
END:VEVENT
BEGIN:VEVENT
DTSTART;TZID=America/New_York:20230116T190000
DTEND;TZID=America/New_York:20230116T210000
DTSTAMP:20260420T010729
CREATED:20221120T205852Z
LAST-MODIFIED:20221120T205852Z
UID:1781-1673895600-1673902800@cloverleafarcheryclub.com
SUMMARY:Monday Night Dot League
DESCRIPTION:More details available on the Monday Night Dot League page.  Randy Freed 267-253-1453
URL:https://cloverleafarcheryclub.com/event/monday-night-dot-league-23/
LOCATION:Club House\, 2080 Umbreit Road\, Milford Square\, PA\, 18935\, United States
CATEGORIES:Leagues
END:VEVENT
BEGIN:VEVENT
DTSTART;TZID=America/New_York:20230117T190000
DTEND;TZID=America/New_York:20230117T210000
DTSTAMP:20260420T010729
CREATED:20221120T205853Z
LAST-MODIFIED:20221120T205853Z
UID:1782-1673982000-1673989200@cloverleafarcheryclub.com
SUMMARY:Tuesday Night Bow Hunter League
DESCRIPTION:More details available on the Tuesday Night Paper Animal League page.  Paul Romanic 610-554-6564
URL:https://cloverleafarcheryclub.com/event/tuesday-night-bow-hunter-league-23/
LOCATION:Club House\, 2080 Umbreit Road\, Milford Square\, PA\, 18935\, United States
CATEGORIES:Leagues
END:VEVENT
BEGIN:VEVENT
DTSTART;TZID=America/New_York:20230118T190000
DTEND;TZID=America/New_York:20230118T210000
DTSTAMP:20260420T010729
CREATED:20221120T205853Z
LAST-MODIFIED:20221120T205853Z
UID:1783-1674068400-1674075600@cloverleafarcheryclub.com
SUMMARY:Wednesday Night Recurve-Longbow Indoor 3D
DESCRIPTION:More details available on the Wednesday Night Traditional 3D Shoot League page.  Tim Burris 610-258-0606 or Ray Stoudt 267-393-1570
URL:https://cloverleafarcheryclub.com/event/wednesday-night-recurve-longbow-indoor-3d-23/
LOCATION:Club House\, 2080 Umbreit Road\, Milford Square\, PA\, 18935\, United States
CATEGORIES:Leagues
END:VEVENT
BEGIN:VEVENT
DTSTART;TZID=America/New_York:20230119T190000
DTEND;TZID=America/New_York:20230119T210000
DTSTAMP:20260420T010729
CREATED:20221120T205853Z
LAST-MODIFIED:20221120T205853Z
UID:1784-1674154800-1674162000@cloverleafarcheryclub.com
SUMMARY:Thursday Night Animal League
DESCRIPTION:More details available on the Thursday Night Paper Animal Shoot League page.  Thomas Walmsley 215-272-5234
URL:https://cloverleafarcheryclub.com/event/thursday-night-animal-league-23/
LOCATION:Club House\, 2080 Umbreit Road\, Milford Square\, PA\, 18935\, United States
CATEGORIES:Leagues
END:VEVENT
BEGIN:VEVENT
DTSTART;TZID=America/New_York:20230120T190000
DTEND;TZID=America/New_York:20230120T210000
DTSTAMP:20260420T010729
CREATED:20221120T205853Z
LAST-MODIFIED:20221120T205853Z
UID:1785-1674241200-1674248400@cloverleafarcheryclub.com
SUMMARY:Friday Night Youth Night
DESCRIPTION:More details available on the Friday Night Youth League page.  Tim & Kay Moats 610-308-8279
URL:https://cloverleafarcheryclub.com/event/friday-night-youth-night-11/
LOCATION:Club House\, 2080 Umbreit Road\, Milford Square\, PA\, 18935\, United States
CATEGORIES:Leagues
END:VEVENT
BEGIN:VEVENT
DTSTART;TZID=America/New_York:20230122T093000
DTEND;TZID=America/New_York:20230122T143000
DTSTAMP:20260420T010729
CREATED:20221221T015825Z
LAST-MODIFIED:20221221T015825Z
UID:1901-1674379800-1674397800@cloverleafarcheryclub.com
SUMMARY:Sunday Indoor Practice
DESCRIPTION:Free for members\, $5 per hour for non-members\, $10 for the whole day
URL:https://cloverleafarcheryclub.com/event/sunday-indoor-practice-30/
LOCATION:Club House\, 2080 Umbreit Road\, Milford Square\, PA\, 18935\, United States
CATEGORIES:Leagues
END:VEVENT
BEGIN:VEVENT
DTSTART;TZID=America/New_York:20230123T190000
DTEND;TZID=America/New_York:20230123T210000
DTSTAMP:20260420T010729
CREATED:20221120T205952Z
LAST-MODIFIED:20221120T205952Z
UID:1786-1674500400-1674507600@cloverleafarcheryclub.com
SUMMARY:Monday Night Dot League
DESCRIPTION:More details available on the Monday Night Dot League page.  Randy Freed 267-253-1453
URL:https://cloverleafarcheryclub.com/event/monday-night-dot-league-24/
LOCATION:Club House\, 2080 Umbreit Road\, Milford Square\, PA\, 18935\, United States
CATEGORIES:Leagues
END:VEVENT
BEGIN:VEVENT
DTSTART;TZID=America/New_York:20230124T190000
DTEND;TZID=America/New_York:20230124T210000
DTSTAMP:20260420T010729
CREATED:20221120T205953Z
LAST-MODIFIED:20221120T205953Z
UID:1787-1674586800-1674594000@cloverleafarcheryclub.com
SUMMARY:Tuesday Night Bow Hunter League
DESCRIPTION:More details available on the Tuesday Night Paper Animal League page.  Paul Romanic 610-554-6564
URL:https://cloverleafarcheryclub.com/event/tuesday-night-bow-hunter-league-24/
LOCATION:Club House\, 2080 Umbreit Road\, Milford Square\, PA\, 18935\, United States
CATEGORIES:Leagues
END:VEVENT
BEGIN:VEVENT
DTSTART;TZID=America/New_York:20230125T190000
DTEND;TZID=America/New_York:20230125T210000
DTSTAMP:20260420T010729
CREATED:20221120T205953Z
LAST-MODIFIED:20221120T205953Z
UID:1788-1674673200-1674680400@cloverleafarcheryclub.com
SUMMARY:Wednesday Night Recurve-Longbow Indoor 3D
DESCRIPTION:More details available on the Wednesday Night Traditional 3D Shoot League page.  Tim Burris 610-258-0606 or Ray Stoudt 267-393-1570
URL:https://cloverleafarcheryclub.com/event/wednesday-night-recurve-longbow-indoor-3d-24/
LOCATION:Club House\, 2080 Umbreit Road\, Milford Square\, PA\, 18935\, United States
CATEGORIES:Leagues
END:VEVENT
BEGIN:VEVENT
DTSTART;TZID=America/New_York:20230126T190000
DTEND;TZID=America/New_York:20230126T210000
DTSTAMP:20260420T010729
CREATED:20221120T205953Z
LAST-MODIFIED:20221120T205953Z
UID:1789-1674759600-1674766800@cloverleafarcheryclub.com
SUMMARY:Thursday Night Animal League
DESCRIPTION:More details available on the Thursday Night Paper Animal Shoot League page.  Thomas Walmsley 215-272-5234
URL:https://cloverleafarcheryclub.com/event/thursday-night-animal-league-24/
LOCATION:Club House\, 2080 Umbreit Road\, Milford Square\, PA\, 18935\, United States
CATEGORIES:Leagues
END:VEVENT
BEGIN:VEVENT
DTSTART;TZID=America/New_York:20230127T190000
DTEND;TZID=America/New_York:20230127T210000
DTSTAMP:20260420T010729
CREATED:20221120T205953Z
LAST-MODIFIED:20221120T205953Z
UID:1790-1674846000-1674853200@cloverleafarcheryclub.com
SUMMARY:Friday Night Women’s Night
DESCRIPTION:More details available on the Friday Night Ladies League page.  Tim & Kay Moats 610-308-8279
URL:https://cloverleafarcheryclub.com/event/friday-night-womens-night-6/
LOCATION:Club House\, 2080 Umbreit Road\, Milford Square\, PA\, 18935\, United States
CATEGORIES:Leagues
END:VEVENT
BEGIN:VEVENT
DTSTART;TZID=America/New_York:20230129T093000
DTEND;TZID=America/New_York:20230129T143000
DTSTAMP:20260420T010729
CREATED:20221221T015826Z
LAST-MODIFIED:20221221T015826Z
UID:1902-1674984600-1675002600@cloverleafarcheryclub.com
SUMMARY:Sunday Indoor Practice
DESCRIPTION:Free for members\, $5 per hour for non-members\, $10 for the whole day
URL:https://cloverleafarcheryclub.com/event/sunday-indoor-practice-31/
LOCATION:Club House\, 2080 Umbreit Road\, Milford Square\, PA\, 18935\, United States
CATEGORIES:Leagues
END:VEVENT
BEGIN:VEVENT
DTSTART;TZID=America/New_York:20230130T190000
DTEND;TZID=America/New_York:20230130T210000
DTSTAMP:20260420T010729
CREATED:20221120T210052Z
LAST-MODIFIED:20221120T210052Z
UID:1791-1675105200-1675112400@cloverleafarcheryclub.com
SUMMARY:Monday Night Dot League
DESCRIPTION:More details available on the Monday Night Dot League page.  Randy Freed 267-253-1453
URL:https://cloverleafarcheryclub.com/event/monday-night-dot-league-25/
LOCATION:Club House\, 2080 Umbreit Road\, Milford Square\, PA\, 18935\, United States
CATEGORIES:Leagues
END:VEVENT
BEGIN:VEVENT
DTSTART;TZID=America/New_York:20230131T190000
DTEND;TZID=America/New_York:20230131T210000
DTSTAMP:20260420T010729
CREATED:20221120T210053Z
LAST-MODIFIED:20221120T210053Z
UID:1792-1675191600-1675198800@cloverleafarcheryclub.com
SUMMARY:Tuesday Night Bow Hunter League
DESCRIPTION:More details available on the Tuesday Night Paper Animal League page.  Paul Romanic 610-554-6564
URL:https://cloverleafarcheryclub.com/event/tuesday-night-bow-hunter-league-25/
LOCATION:Club House\, 2080 Umbreit Road\, Milford Square\, PA\, 18935\, United States
CATEGORIES:Leagues
END:VEVENT
BEGIN:VEVENT
DTSTART;TZID=America/New_York:20230201T190000
DTEND;TZID=America/New_York:20230201T210000
DTSTAMP:20260420T010729
CREATED:20221120T210053Z
LAST-MODIFIED:20221120T210053Z
UID:1793-1675278000-1675285200@cloverleafarcheryclub.com
SUMMARY:Wednesday Night Recurve-Longbow Indoor 3D
DESCRIPTION:More details available on the Wednesday Night Traditional 3D Shoot League page.  Tim Burris 610-258-0606 or Ray Stoudt 267-393-1570
URL:https://cloverleafarcheryclub.com/event/wednesday-night-recurve-longbow-indoor-3d-25/
LOCATION:Club House\, 2080 Umbreit Road\, Milford Square\, PA\, 18935\, United States
CATEGORIES:Leagues
END:VEVENT
BEGIN:VEVENT
DTSTART;TZID=America/New_York:20230202T190000
DTEND;TZID=America/New_York:20230202T210000
DTSTAMP:20260420T010729
CREATED:20221120T210053Z
LAST-MODIFIED:20221120T210053Z
UID:1794-1675364400-1675371600@cloverleafarcheryclub.com
SUMMARY:Thursday Night Animal League
DESCRIPTION:More details available on the Thursday Night Paper Animal Shoot League page.  Thomas Walmsley 215-272-5234
URL:https://cloverleafarcheryclub.com/event/thursday-night-animal-league-25/
LOCATION:Club House\, 2080 Umbreit Road\, Milford Square\, PA\, 18935\, United States
CATEGORIES:Leagues
END:VEVENT
BEGIN:VEVENT
DTSTART;TZID=America/New_York:20230203T190000
DTEND;TZID=America/New_York:20230203T210000
DTSTAMP:20260420T010729
CREATED:20221120T210053Z
LAST-MODIFIED:20221120T210053Z
UID:1795-1675450800-1675458000@cloverleafarcheryclub.com
SUMMARY:Friday Night Youth Night
DESCRIPTION:More details available on the Friday Night Youth League page.  Tim & Kay Moats 610-308-8279
URL:https://cloverleafarcheryclub.com/event/friday-night-youth-night-12/
LOCATION:Club House\, 2080 Umbreit Road\, Milford Square\, PA\, 18935\, United States
CATEGORIES:Leagues
END:VEVENT
BEGIN:VEVENT
DTSTART;TZID=America/New_York:20230205T093000
DTEND;TZID=America/New_York:20230205T143000
DTSTAMP:20260420T010729
CREATED:20221221T015826Z
LAST-MODIFIED:20221221T015826Z
UID:1903-1675589400-1675607400@cloverleafarcheryclub.com
SUMMARY:Sunday Indoor Practice
DESCRIPTION:Free for members\, $5 per hour for non-members\, $10 for the whole day
URL:https://cloverleafarcheryclub.com/event/sunday-indoor-practice-32/
LOCATION:Club House\, 2080 Umbreit Road\, Milford Square\, PA\, 18935\, United States
CATEGORIES:Leagues
END:VEVENT
BEGIN:VEVENT
DTSTART;TZID=America/New_York:20230206T190000
DTEND;TZID=America/New_York:20230206T210000
DTSTAMP:20260420T010729
CREATED:20221120T210152Z
LAST-MODIFIED:20221120T210152Z
UID:1796-1675710000-1675717200@cloverleafarcheryclub.com
SUMMARY:Monday Night Dot League
DESCRIPTION:More details available on the Monday Night Dot League page.  Randy Freed 267-253-1453
URL:https://cloverleafarcheryclub.com/event/monday-night-dot-league-26/
LOCATION:Club House\, 2080 Umbreit Road\, Milford Square\, PA\, 18935\, United States
CATEGORIES:Leagues
END:VEVENT
BEGIN:VEVENT
DTSTART;TZID=America/New_York:20230207T190000
DTEND;TZID=America/New_York:20230207T210000
DTSTAMP:20260420T010729
CREATED:20221120T210153Z
LAST-MODIFIED:20221120T210153Z
UID:1797-1675796400-1675803600@cloverleafarcheryclub.com
SUMMARY:Tuesday Night Bow Hunter League
DESCRIPTION:More details available on the Tuesday Night Paper Animal League page.  Paul Romanic 610-554-6564
URL:https://cloverleafarcheryclub.com/event/tuesday-night-bow-hunter-league-26/
LOCATION:Club House\, 2080 Umbreit Road\, Milford Square\, PA\, 18935\, United States
CATEGORIES:Leagues
END:VEVENT
BEGIN:VEVENT
DTSTART;TZID=America/New_York:20230208T190000
DTEND;TZID=America/New_York:20230208T210000
DTSTAMP:20260420T010729
CREATED:20221120T210153Z
LAST-MODIFIED:20221120T210153Z
UID:1798-1675882800-1675890000@cloverleafarcheryclub.com
SUMMARY:Wednesday Night Recurve-Longbow Indoor 3D
DESCRIPTION:More details available on the Wednesday Night Traditional 3D Shoot League page.  Tim Burris 610-258-0606 or Ray Stoudt 267-393-1570
URL:https://cloverleafarcheryclub.com/event/wednesday-night-recurve-longbow-indoor-3d-26/
LOCATION:Club House\, 2080 Umbreit Road\, Milford Square\, PA\, 18935\, United States
CATEGORIES:Leagues
END:VEVENT
BEGIN:VEVENT
DTSTART;TZID=America/New_York:20230209T190000
DTEND;TZID=America/New_York:20230209T210000
DTSTAMP:20260420T010729
CREATED:20221120T210153Z
LAST-MODIFIED:20221120T210153Z
UID:1799-1675969200-1675976400@cloverleafarcheryclub.com
SUMMARY:Thursday Night Animal League
DESCRIPTION:More details available on the Thursday Night Paper Animal Shoot League page.  Thomas Walmsley 215-272-5234
URL:https://cloverleafarcheryclub.com/event/thursday-night-animal-league-26/
LOCATION:Club House\, 2080 Umbreit Road\, Milford Square\, PA\, 18935\, United States
CATEGORIES:Leagues
END:VEVENT
BEGIN:VEVENT
DTSTART;TZID=America/New_York:20230210T190000
DTEND;TZID=America/New_York:20230210T210000
DTSTAMP:20260420T010729
CREATED:20221120T210153Z
LAST-MODIFIED:20221120T210153Z
UID:1800-1676055600-1676062800@cloverleafarcheryclub.com
SUMMARY:Friday Night Women’s Night
DESCRIPTION:More details available on the Friday Night Ladies League page.  Tim & Kay Moats 610-308-8279
URL:https://cloverleafarcheryclub.com/event/friday-night-womens-night-7/
LOCATION:Club House\, 2080 Umbreit Road\, Milford Square\, PA\, 18935\, United States
CATEGORIES:Leagues
END:VEVENT
BEGIN:VEVENT
DTSTART;TZID=America/New_York:20230212T093000
DTEND;TZID=America/New_York:20230212T143000
DTSTAMP:20260420T010729
CREATED:20221221T015828Z
LAST-MODIFIED:20221221T015828Z
UID:1904-1676194200-1676212200@cloverleafarcheryclub.com
SUMMARY:Sunday Indoor Practice
DESCRIPTION:Free for members\, $5 per hour for non-members\, $10 for the whole day
URL:https://cloverleafarcheryclub.com/event/sunday-indoor-practice-33/
LOCATION:Club House\, 2080 Umbreit Road\, Milford Square\, PA\, 18935\, United States
CATEGORIES:Leagues
END:VEVENT
BEGIN:VEVENT
DTSTART;TZID=America/New_York:20230213T190000
DTEND;TZID=America/New_York:20230213T210000
DTSTAMP:20260420T010729
CREATED:20221120T210252Z
LAST-MODIFIED:20221120T210252Z
UID:1801-1676314800-1676322000@cloverleafarcheryclub.com
SUMMARY:Monday Night Dot League
DESCRIPTION:More details available on the Monday Night Dot League page.  Randy Freed 267-253-1453
URL:https://cloverleafarcheryclub.com/event/monday-night-dot-league-27/
LOCATION:Club House\, 2080 Umbreit Road\, Milford Square\, PA\, 18935\, United States
CATEGORIES:Leagues
END:VEVENT
BEGIN:VEVENT
DTSTART;TZID=America/New_York:20230214T190000
DTEND;TZID=America/New_York:20230214T210000
DTSTAMP:20260420T010729
CREATED:20221120T210253Z
LAST-MODIFIED:20221120T210253Z
UID:1802-1676401200-1676408400@cloverleafarcheryclub.com
SUMMARY:Tuesday Night Bow Hunter League
DESCRIPTION:More details available on the Tuesday Night Paper Animal League page.  Paul Romanic 610-554-6564
URL:https://cloverleafarcheryclub.com/event/tuesday-night-bow-hunter-league-27/
LOCATION:Club House\, 2080 Umbreit Road\, Milford Square\, PA\, 18935\, United States
CATEGORIES:Leagues
END:VEVENT
BEGIN:VEVENT
DTSTART;TZID=America/New_York:20230215T190000
DTEND;TZID=America/New_York:20230215T210000
DTSTAMP:20260420T010729
CREATED:20221120T210253Z
LAST-MODIFIED:20221120T210253Z
UID:1803-1676487600-1676494800@cloverleafarcheryclub.com
SUMMARY:Wednesday Night Recurve-Longbow Indoor 3D
DESCRIPTION:More details available on the Wednesday Night Traditional 3D Shoot League page.  Tim Burris 610-258-0606 or Ray Stoudt 267-393-1570
URL:https://cloverleafarcheryclub.com/event/wednesday-night-recurve-longbow-indoor-3d-27/
LOCATION:Club House\, 2080 Umbreit Road\, Milford Square\, PA\, 18935\, United States
CATEGORIES:Leagues
END:VEVENT
END:VCALENDAR